Workbook

Sheet Summary
A1: Metric | B1: Value
A2: Report Date | B2: 1405/04/19
A3: Source | B3: SANS @RISK Vol.26 Num.26 / ISC / Vendor Advisory / CISA KEV
A4: Total Findings | B4: =COUNTA(Vulnerabilities!A:A)-1 -> 20
A5: Critical | B5: =COUNTIF(Vulnerabilities!J:J,"Critical") -> 19
A6: High | B6: =COUNTIF(Vulnerabilities!J:J,"High") -> 1
A7: Medium | B7: =COUNTIF(Vulnerabilities!J:J,"Medium") -> 0
A8: Low | B8: =COUNTIF(Vulnerabilities!J:J,"Low") -> 0
A9: KEV Count | B9: =COUNTIF(Vulnerabilities!K:K,"KEV") -> 2
A10: Active Exploitation Count | B10: =COUNTIF(Vulnerabilities!K:K,"Active Exploitation Suspected") -> 0
A11: Internet-facing Count | B11: =COUNTIF(Vulnerabilities!Q:Q,"بله") -> 17
A12: Actions Due < 72h | B12: =COUNTIF(Tracking!D:D,"P1 - Critical") -> 16
A13: Open | B13: =COUNTIF(Tracking!H:H,"Open") -> 20
A14: In Progress | B14: =COUNTIF(Tracking!H:H,"In Progress") -> 0
A15: Mitigated | B15: =COUNTIF(Tracking!H:H,"Mitigated") -> 0
A16: Patched | B16: =COUNTIF(Tracking!H:H,"Patched") -> 0

Sheet Vulnerabilities
A1: ردیف | B1: تاریخ_اطلاع‌رسانی | C1: منبع | D1: لایه_دسته‌بندی | E1: Vendor | F1: محصول_سرویس | G1: مولفه_آسیب‌پذیر | H1: CVE_Advisory | I1: CVSS | J1: سطح_شدت | K1: وضعیت_بهره‌برداری | L1: نوع_آسیب‌پذیری | M1: توضیح_اثر | N1: نسخه‌های_تحت_تاثیر | O1: دارایی_داخلی_مرتبط | P1: مالک_دارایی | Q1: اینترنتی_است | R1: حساسیت_خدمت | S1: قابلیت_بهره‌برداری_در_سازمان | T1: ATTACK_Technique | U1: IOC_موجود | V1: اقدام_اصلاحی | W1: راهکار_موقت | X1: نیاز_به_Downtime | Y1: مسئول_اقدام | Z1: مهلت_اقدام | AA1: وضعیت_پیگیری | AB1: لینک_مرجع | AC1: توضیحات_تکمیلی
A2: 1 | B2: 1405/04/19 | C2: SANS @RISK Vol.26 Num.26 / ISC / Vendor Advisory / CISA KEV | D2: Application | E2: Adobe | F2: ColdFusion | G2: Path Traversal | H2: CVE-2026-48282 | I2: 10.0 | J2: Critical | K2: KEV | L2: Path Traversal | M2: مطابق advisory | N2: KEV since 2026-07-07 APSB26-68 | O2: ADOBE-COLDFUSION | P2: راهبر سرویس | Q2: بله | R2: بحرانی | S2: بالا | T2: T1190 | U2: بله | V2: Patch / Upgrade فوری | W2: محدودسازی exposure و ACL | X2: بله | Y2: راهبر سرویس | Z2: 1405/04/12 | AA2: Open | AB2: https://nvd.nist.gov/vuln/detail/CVE-2026-48282 | AC2: KEV since 2026-07-07 APSB26-68
A3: 2 | B3: 1405/04/19 | C3: SANS @RISK Vol.26 Num.26 / ISC / Vendor Advisory / CISA KEV | D3: Application | E3: Adobe | F3: ColdFusion | G3: Unrestricted File Upload | H3: CVE-2026-48276 | I3: 10.0 | J3: Critical | K3: Under Review | L3: Unrestricted File Upload | M3: مطابق advisory | N3: APSB26-68 | O3: ADOBE-COLDFUSION | P3: راهبر سرویس | Q3: بله | R3: بحرانی | S3: متوسط | T3: T1190 | U3: خیر | V3: Patch / Upgrade فوری | W3: محدودسازی exposure و ACL | X3: بله | Y3: راهبر سرویس | Z3: 1405/04/16 | AA3: Open | AB3: https://nvd.nist.gov/vuln/detail/CVE-2026-48276 | AC3: APSB26-68
A4: 3 | B4: 1405/04/19 | C4: SANS @RISK Vol.26 Num.26 / ISC / Vendor Advisory / CISA KEV | D4: Application | E4: Adobe | F4: ColdFusion | G4: Improper Input Validation | H4: CVE-2026-48277 | I4: 9.3 | J4: Critical | K4: Under Review | L4: Improper Input Validation | M4: مطابق advisory | N4: APSB26-68 | O4: ADOBE-COLDFUSION | P4: راهبر سرویس | Q4: بله | R4: بحرانی | S4: متوسط | T4: T1190 | U4: خیر | V4: Patch / Upgrade فوری | W4: محدودسازی exposure و ACL | X4: بله | Y4: راهبر سرویس | Z4: 1405/04/16 | AA4: Open | AB4: https://nvd.nist.gov/vuln/detail/CVE-2026-48277 | AC4: APSB26-68
A5: 4 | B5: 1405/04/19 | C5: SANS @RISK Vol.26 Num.26 / ISC / Vendor Advisory / CISA KEV | D5: Application | E5: Adobe | F5: ColdFusion | G5: Improper Input Validation | H5: CVE-2026-48281 | I5: 9.3 | J5: Critical | K5: Under Review | L5: Improper Input Validation | M5: مطابق advisory | N5: APSB26-68 | O5: ADOBE-COLDFUSION | P5: راهبر سرویس | Q5: بله | R5: بحرانی | S5: متوسط | T5: T1190 | U5: خیر | V5: Patch / Upgrade فوری | W5: محدودسازی exposure و ACL | X5: بله | Y5: راهبر سرویس | Z5: 1405/04/16 | AA5: Open | AB5: https://nvd.nist.gov/vuln/detail/CVE-2026-48281 | AC5: APSB26-68
A6: 5 | B6: 1405/04/19 | C6: SANS @RISK Vol.26 Num.26 / ISC / Vendor Advisory / CISA KEV | D6: Application | E6: Adobe | F6: ColdFusion | G6: Unrestricted File Upload | H6: CVE-2026-48283 | I6: 10.0 | J6: Critical | K6: Under Review | L6: Unrestricted File Upload | M6: مطابق advisory | N6: APSB26-68 | O6: ADOBE-COLDFUSION | P6: راهبر سرویس | Q6: بله | R6: بحرانی | S6: متوسط | T6: T1190 | U6: خیر | V6: Patch / Upgrade فوری | W6: محدودسازی exposure و ACL | X6: بله | Y6: راهبر سرویس | Z6: 1405/04/16 | AA6: Open | AB6: https://nvd.nist.gov/vuln/detail/CVE-2026-48283 | AC6: APSB26-68
A7: 6 | B7: 1405/04/19 | C7: SANS @RISK Vol.26 Num.26 / ISC / Vendor Advisory / CISA KEV | D7: Application | E7: Adobe | F7: ColdFusion | G7: Path Traversal | H7: CVE-2026-48313 | I7: 9.3 | J7: Critical | K7: Under Review | L7: Path Traversal | M7: مطابق advisory | N7: APSB26-68 | O7: ADOBE-COLDFUSION | P7: راهبر سرویس | Q7: بله | R7: بحرانی | S7: متوسط | T7: T1190 | U7: خیر | V7: Patch / Upgrade فوری | W7: محدودسازی exposure و ACL | X7: بله | Y7: راهبر سرویس | Z7: 1405/04/16 | AA7: Open | AB7: https://nvd.nist.gov/vuln/detail/CVE-2026-48313 | AC7: APSB26-68
A8: 7 | B8: 1405/04/19 | C8: SANS @RISK Vol.26 Num.26 / ISC / Vendor Advisory / CISA KEV | D8: Application | E8: Adobe | F8: ColdFusion | G8: Malicious File Interaction | H8: CVE-2026-48315 | I8: 9.3 | J8: Critical | K8: Under Review | L8: Malicious File Interaction | M8: مطابق advisory | N8: APSB26-68 | O8: ADOBE-COLDFUSION | P8: راهبر سرویس | Q8: بله | R8: بحرانی | S8: متوسط | T8: T1190 | U8: خیر | V8: Patch / Upgrade فوری | W8: محدودسازی exposure و ACL | X8: بله | Y8: راهبر سرویس | Z8: 1405/04/16 | AA8: Open | AB8: https://nvd.nist.gov/vuln/detail/CVE-2026-48315 | AC8: APSB26-68
A9: 8 | B9: 1405/04/19 | C9: SANS @RISK Vol.26 Num.26 / ISC / Vendor Advisory / CISA KEV | D9: Application | E9: Adobe | F9: ColdFusion | G9: Improper Input Validation | H9: CVE-2026-48316 | I9: 9.3 | J9: Critical | K9: Under Review | L9: Improper Input Validation | M9: مطابق advisory | N9: APSB26-68 | O9: ADOBE-COLDFUSION | P9: راهبر سرویس | Q9: بله | R9: بحرانی | S9: متوسط | T9: T1190 | U9: خیر | V9: Patch / Upgrade فوری | W9: محدودسازی exposure و ACL | X9: بله | Y9: راهبر سرویس | Z9: 1405/04/16 | AA9: Open | AB9: https://nvd.nist.gov/vuln/detail/CVE-2026-48316 | AC9: APSB26-68
A10: 9 | B10: 1405/04/19 | C10: SANS @RISK Vol.26 Num.26 / ISC / Vendor Advisory / CISA KEV | D10: Application | E10: Adobe | F10: Campaign Classic | G10: Incorrect Authorization RCE | H10: CVE-2026-48286 | I10: 10.0 | J10: Critical | K10: Under Review | L10: Incorrect Authorization RCE | M10: مطابق advisory | N10: <=7.4.3 build 9396 APSB26-69 | O10: ADOBE-CAMPAIGNCLASSIC | P10: راهبر سرویس | Q10: بله | R10: بحرانی | S10: متوسط | T10: T1190 | U10: خیر | V10: Patch / Upgrade فوری | W10: محدودسازی exposure و ACL | X10: بله | Y10: راهبر سرویس | Z10: 1405/04/16 | AA10: Open | AB10: https://nvd.nist.gov/vuln/detail/CVE-2026-48286 | AC10: <=7.4.3 build 9396 APSB26-69
A11: 10 | B11: 1405/04/19 | C11: SANS @RISK Vol.26 Num.26 / ISC / Vendor Advisory / CISA KEV | D11: Application | E11: Joomla | F11: Page Builder CK | G11: Unauth Arbitrary File Upload RCE | H11: CVE-2026-56290 | J11: Critical | K11: KEV | L11: Unauth Arbitrary File Upload RCE | M11: مطابق advisory | N11: KEV since 2026-07-07 | O11: JOOMLA-PAGEBUILDERCK | P11: راهبر سرویس | Q11: بله | R11: بحرانی | S11: بالا | T11: T1190 | U11: بله | V11: Patch / Upgrade فوری | W11: محدودسازی exposure و ACL | X11: بله | Y11: راهبر سرویس | Z11: 1405/04/12 | AA11: Open | AB11: https://nvd.nist.gov/vuln/detail/CVE-2026-56290 | AC11: KEV since 2026-07-07
A12: 11 | B12: 1405/04/19 | C12: SANS @RISK Vol.26 Num.26 / ISC / Vendor Advisory / CISA KEV | D12: Application | E12: BeyondTrust | F12: Remote Support | G12: Pre-auth Unauthorized Access | H12: CVE-2026-40139 | I12: 9.8 | J12: Critical | K12: Under Review | L12: Pre-auth Unauthorized Access | M12: مطابق advisory | N12: BT26-03 | O12: BEYONDTRUST-REMOTESUPPOR | P12: راهبر سرویس | Q12: بله | R12: بحرانی | S12: متوسط | T12: T1190 | U12: خیر | V12: Patch / Upgrade فوری | W12: محدودسازی exposure و ACL | X12: بله | Y12: راهبر سرویس | Z12: 1405/04/16 | AA12: Open | AB12: https://nvd.nist.gov/vuln/detail/CVE-2026-40139 | AC12: BT26-03
A13: 12 | B13: 1405/04/19 | C13: SANS @RISK Vol.26 Num.26 / ISC / Vendor Advisory / CISA KEV | D13: Application | E13: BeyondTrust | F13: Remote Support PRA | G13: Pre-auth Access Control Bypass | H13: CVE-2026-40138 | I13: 8.1 | J13: High | K13: Under Review | L13: Pre-auth Access Control Bypass | M13: مطابق advisory | N13: BT26-03 | O13: BEYONDTRUST-REMOTESUPPOR | P13: راهبر سرویس | Q13: بله | R13: بالا | S13: متوسط | T13: T1190 | U13: خیر | V13: Patch / Upgrade فوری | W13: محدودسازی exposure و ACL | X13: بله | Y13: راهبر سرویس | Z13: 1405/04/16 | AA13: Open | AB13: https://nvd.nist.gov/vuln/detail/CVE-2026-40138 | AC13: BT26-03
A14: 13 | B14: 1405/04/19 | C14: SANS @RISK Vol.26 Num.26 / ISC / Vendor Advisory / CISA KEV | D14: Application | E14: BeyondTrust | F14: Remote Support PRA | G14: Unauthorized Resource Access | H14: CVE-2026-40141 | I14: 9.9 | J14: Critical | K14: Under Review | L14: Unauthorized Resource Access | M14: مطابق advisory | N14: BT26-03 | O14: BEYONDTRUST-REMOTESUPPOR | P14: راهبر سرویس | Q14: بله | R14: بحرانی | S14: متوسط | T14: T1190 | U14: خیر | V14: Patch / Upgrade فوری | W14: محدودسازی exposure و ACL | X14: بله | Y14: راهبر سرویس | Z14: 1405/04/16 | AA14: Open | AB14: https://nvd.nist.gov/vuln/detail/CVE-2026-40141 | AC14: BT26-03
A15: 14 | B15: 1405/04/19 | C15: SANS @RISK Vol.26 Num.26 / ISC / Vendor Advisory / CISA KEV | D15: Application | E15: Microsoft | F15: Edge Chromium | G15: Remote Code Execution | H15: CVE-2026-58289 | I15: 9.0 | J15: Critical | K15: Under Review | L15: Remote Code Execution | M15: مطابق advisory | N15: مطابق advisory | O15: MICROSOFT-EDGECHROMIUM | P15: راهبر سرویس | Q15: بله | R15: بحرانی | S15: متوسط | T15: T1190 | U15: خیر | V15: Patch / Upgrade فوری | W15: محدودسازی exposure و ACL | X15: بله | Y15: راهبر سرویس | Z15: 1405/04/16 | AA15: Open | AB15: https://msrc.microsoft.com/update-guide/vulnerability/CVE-2026-58289
A16: 15 | B16: 1405/04/19 | C16: SANS @RISK Vol.26 Num.26 / ISC / Vendor Advisory / CISA KEV | D16: Application | E16: curl | F16: libcurl | G16: HTTP2 UAF | H16: CVE-2026-10536 | I16: 9.8 | J16: Critical | K16: Under Review | L16: HTTP2 UAF | M16: مطابق advisory | N16: مطابق advisory | O16: CURL-LIBCURL | P16: راهبر سرویس | Q16: بله | R16: بحرانی | S16: متوسط | T16: T1190 | U16: خیر | V16: Patch / Upgrade فوری | W16: محدودسازی exposure و ACL | X16: بله | Y16: راهبر سرویس | Z16: 1405/04/16 | AA16: Open | AB16: https://curl.se/docs/CVE-2026-10536.html
A17: 16 | B17: 1405/04/19 | C17: SANS @RISK Vol.26 Num.26 / ISC / Vendor Advisory / CISA KEV | D17: Application | E17: curl | F17: libcurl | G17: Trailing Dot Super Cookie | H17: CVE-2026-8924 | I17: 9.8 | J17: Critical | K17: Under Review | L17: Trailing Dot Super Cookie | M17: مطابق advisory | N17: مطابق advisory | O17: CURL-LIBCURL | P17: راهبر سرویس | Q17: بله | R17: بحرانی | S17: متوسط | T17: T1190 | U17: خیر | V17: Patch / Upgrade فوری | W17: محدودسازی exposure و ACL | X17: بله | Y17: راهبر سرویس | Z17: 1405/04/16 | AA17: Open | AB17: https://curl.se/docs/CVE-2026-8924.html
A18: 17 | B18: 1405/04/19 | C18: SANS @RISK Vol.26 Num.26 / ISC / Vendor Advisory / CISA KEV | D18: Application | E18: curl | F18: libcurl | G18: Password Leak netrc URL | H18: CVE-2026-8926 | I18: 9.8 | J18: Critical | K18: Under Review | L18: Password Leak netrc URL | M18: مطابق advisory | N18: مطابق advisory | O18: CURL-LIBCURL | P18: راهبر سرویس | Q18: بله | R18: بحرانی | S18: متوسط | T18: T1190 | U18: خیر | V18: Patch / Upgrade فوری | W18: محدودسازی exposure و ACL | X18: بله | Y18: راهبر سرویس | Z18: 1405/04/16 | AA18: Open | AB18: https://curl.se/docs/CVE-2026-8926.html
A19: 18 | B19: 1405/04/19 | C19: SANS @RISK Vol.26 Num.26 / ISC / Vendor Advisory / CISA KEV | D19: Application | E19: curl | F19: libcurl | G19: SSH Improper Host Validation | H19: CVE-2026-9547 | I19: 9.8 | J19: Critical | K19: Under Review | L19: SSH Improper Host Validation | M19: مطابق advisory | N19: مطابق advisory | O19: CURL-LIBCURL | P19: راهبر سرویس | Q19: بله | R19: بحرانی | S19: متوسط | T19: T1190 | U19: خیر | V19: Patch / Upgrade فوری | W19: محدودسازی exposure و ACL | X19: بله | Y19: راهبر سرویس | Z19: 1405/04/16 | AA19: Open | AB19: https://curl.se/docs/CVE-2026-9547.html
A20: 19 | B20: 1405/04/19 | C20: SANS @RISK Vol.26 Num.26 / ISC / Vendor Advisory / CISA KEV | D20: Application | E20: curl | F20: libcurl | G20: Improper Certificate Validation | H20: CVE-2026-11564 | I20: 9.8 | J20: Critical | K20: Under Review | L20: Improper Certificate Validation | M20: مطابق advisory | N20: مطابق advisory | O20: CURL-LIBCURL | P20: راهبر سرویس | Q20: بله | R20: بحرانی | S20: متوسط | T20: T1190 | U20: خیر | V20: Patch / Upgrade فوری | W20: محدودسازی exposure و ACL | X20: بله | Y20: راهبر سرویس | Z20: 1405/04/16 | AA20: Open | AB20: https://curl.se/docs/CVE-2026-11564.html
A21: 20 | B21: 1405/04/19 | C21: SANS @RISK Vol.26 Num.26 / ISC / Vendor Advisory / CISA KEV | D21: Application | E21: Coolify | F21: Coolify | G21: Authorization Bypass | H21: CVE-2026-34037 | I21: 9.9 | J21: Critical | K21: Under Review | L21: Authorization Bypass | M21: مطابق advisory | N21: مطابق advisory | O21: COOLIFY-COOLIFY | P21: راهبر سرویس | Q21: بله | R21: بحرانی | S21: متوسط | T21: T1190 | U21: خیر | V21: Patch / Upgrade فوری | W21: محدودسازی exposure و ACL | X21: بله | Y21: راهبر سرویس | Z21: 1405/04/16 | AA21: Open | AB21: https://nvd.nist.gov/vuln/detail/CVE-2026-34037
A22: 21 | B22: 1405/04/19 | C22: SANS @RISK Vol.26 Num.26 / ISC / Vendor Advisory / CISA KEV | D22: Application | E22: Coolify | F22: Coolify | G22: OS Command Injection | H22: CVE-2026-34038 | I22: 9.9 | J22: Critical | K22: Under Review | L22: OS Command Injection | M22: مطابق advisory | N22: مطابق advisory | O22: COOLIFY-COOLIFY | P22: راهبر سرویس | Q22: بله | R22: بحرانی | S22: متوسط | T22: T1190 | U22: خیر | V22: Patch / Upgrade فوری | W22: محدودسازی exposure و ACL | X22: بله | Y22: راهبر سرویس | Z22: 1405/04/16 | AA22: Open | AB22: https://nvd.nist.gov/vuln/detail/CVE-2026-34038
A23: 22 | B23: 1405/04/19 | C23: SANS @RISK Vol.26 Num.26 / ISC / Vendor Advisory / CISA KEV | D23: Application | E23: Coolify | F23: Coolify | G23: Incorrect Authorization | H23: CVE-2026-34047 | I23: 9.9 | J23: Critical | K23: Under Review | L23: Incorrect Authorization | M23: مطابق advisory | N23: مطابق advisory | O23: COOLIFY-COOLIFY | P23: راهبر سرویس | Q23: بله | R23: بحرانی | S23: متوسط | T23: T1190 | U23: خیر | V23: Patch / Upgrade فوری | W23: محدودسازی exposure و ACL | X23: بله | Y23: راهبر سرویس | Z23: 1405/04/16 | AA23: Open | AB23: https://nvd.nist.gov/vuln/detail/CVE-2026-34047
A24: 23 | B24: 1405/04/19 | C24: SANS @RISK Vol.26 Num.26 / ISC / Vendor Advisory / CISA KEV | D24: Application | E24: Coolify | F24: Coolify | G24: Improper Authorization | H24: CVE-2026-34048 | I24: 9.9 | J24: Critical | K24: Under Review | L24: Improper Authorization | M24: مطابق advisory | N24: مطابق advisory | O24: COOLIFY-COOLIFY | P24: راهبر سرویس | Q24: بله | R24: بحرانی | S24: متوسط | T24: T1190 | U24: خیر | V24: Patch / Upgrade فوری | W24: محدودسازی exposure و ACL | X24: بله | Y24: راهبر سرویس | Z24: 1405/04/16 | AA24: Open | AB24: https://nvd.nist.gov/vuln/detail/CVE-2026-34048
A25: 24 | B25: 1405/04/19 | C25: SANS @RISK Vol.26 Num.26 / ISC / Vendor Advisory / CISA KEV | D25: Application | E25: Grav | F25: Grav CMS | G25: Code Execution Command Injection | H25: CVE-2026-56700 | I25: 9.8 | J25: Critical | K25: Under Review | L25: Code Execution Command Injection | M25: مطابق advisory | N25: fixed in 2.0.0-beta.2 | O25: GRAV-GRAVCMS | P25: راهبر سرویس | Q25: بله | R25: بحرانی | S25: متوسط | T25: T1190 | U25: خیر | V25: Patch / Upgrade فوری | W25: محدودسازی exposure و ACL | X25: بله | Y25: راهبر سرویس | Z25: 1405/04/16 | AA25: Open | AB25: https://nvd.nist.gov/vuln/detail/CVE-2026-56700 | AC25: fixed in 2.0.0-beta.2
A26: 25 | B26: 1405/04/19 | C26: SANS @RISK Vol.26 Num.26 / ISC / Vendor Advisory / CISA KEV | D26: Application | E26: Hiyouga | F26: LLaMA-Factory | G26: Remote Code Execution | H26: CVE-2026-58116 | I26: 9.8 | J26: Critical | K26: Under Review | L26: Remote Code Execution | M26: مطابق advisory | N26: through 0.9.5 | O26: HIYOUGA-LLAMAFACTORY | P26: راهبر سرویس | Q26: بله | R26: بحرانی | S26: متوسط | T26: T1190 | U26: خیر | V26: Patch / Upgrade فوری | W26: محدودسازی exposure و ACL | X26: بله | Y26: راهبر سرویس | Z26: 1405/04/16 | AA26: Open | AB26: https://nvd.nist.gov/vuln/detail/CVE-2026-58116 | AC26: through 0.9.5
A27: 26 | B27: 1405/04/19 | C27: SANS @RISK Vol.26 Num.26 / ISC / Vendor Advisory / CISA KEV | D27: Application | E27: OpenBMB | F27: ChatDev | G27: Path Traversal Arbitrary File Write | H27: CVE-2026-58166 | I27: 9.1 | J27: Critical | K27: Under Review | L27: Path Traversal Arbitrary File Write | M27: مطابق advisory | N27: through 2.2.0 | O27: OPENBMB-CHATDEV | P27: راهبر سرویس | Q27: بله | R27: بحرانی | S27: متوسط | T27: T1190 | U27: خیر | V27: Patch / Upgrade فوری | W27: محدودسازی exposure و ACL | X27: بله | Y27: راهبر سرویس | Z27: 1405/04/16 | AA27: Open | AB27: https://nvd.nist.gov/vuln/detail/CVE-2026-58166 | AC27: through 2.2.0
A28: 27 | B28: 1405/04/19 | C28: SANS @RISK Vol.26 Num.26 / ISC / Vendor Advisory / CISA KEV | D28: Application | E28: Orkes | F28: Conductor | G28: Unauthenticated RCE | H28: CVE-2026-58138 | I28: 9.8 | J28: Critical | K28: Under Review | L28: Unauthenticated RCE | M28: مطابق advisory | N28: 3.21.21 before 3.30.2 | O28: ORKES-CONDUCTOR | P28: راهبر سرویس | Q28: بله | R28: بحرانی | S28: متوسط | T28: T1190 | U28: خیر | V28: Patch / Upgrade فوری | W28: محدودسازی exposure و ACL | X28: بله | Y28: راهبر سرویس | Z28: 1405/04/16 | AA28: Open | AB28: https://nvd.nist.gov/vuln/detail/CVE-2026-58138 | AC28: 3.21.21 before 3.30.2
A29: 28 | B29: 1405/04/19 | C29: SANS @RISK Vol.26 Num.26 / ISC / Vendor Advisory / CISA KEV | D29: Application | E29: IBM | F29: Db2 | G29: Remote Code Execution | H29: CVE-2026-10109 | I29: 9.8 | J29: Critical | K29: Under Review | L29: Remote Code Execution | M29: مطابق advisory | N29: 11.5.0-11.5.9 / 12.1.0-12.1.4 | O29: IBM-DB2 | P29: راهبر سرویس | Q29: بله | R29: بحرانی | S29: متوسط | T29: T1190 | U29: خیر | V29: Patch / Upgrade فوری | W29: محدودسازی exposure و ACL | X29: بله | Y29: راهبر سرویس | Z29: 1405/04/16 | AA29: Open | AB29: https://www.ibm.com/support/pages/node/7277424 | AC29: 11.5.0-11.5.9 / 12.1.0-12.1.4
A30: 29 | B30: 1405/04/19 | C30: SANS @RISK Vol.26 Num.26 / ISC / Vendor Advisory / CISA KEV | D30: Application | E30: txtai | F30: txtai | G30: Remote Code Execution | H30: CVE-2026-58449 | I30: 9.8 | J30: Critical | K30: Under Review | L30: Remote Code Execution | M30: مطابق advisory | N30: through 9.10.0 /reindex | O30: TXTAI-TXTAI | P30: راهبر سرویس | Q30: بله | R30: بحرانی | S30: متوسط | T30: T1190 | U30: خیر | V30: Patch / Upgrade فوری | W30: محدودسازی exposure و ACL | X30: بله | Y30: راهبر سرویس | Z30: 1405/04/16 | AA30: Open | AB30: https://nvd.nist.gov/vuln/detail/CVE-2026-58449 | AC30: through 9.10.0 /reindex
A31: 30 | B31: 1405/04/19 | C31: SANS @RISK Vol.26 Num.26 / ISC / Vendor Advisory / CISA KEV | D31: Application | E31: UltraVNC | F31: UltraVNC Repeater | G31: Buffer Overflow RCE | H31: CVE-2026-7840 | I31: 9.8 | J31: Critical | K31: Under Review | L31: Buffer Overflow RCE | M31: مطابق advisory | N31: through 1.8.2.2 | O31: ULTRAVNC-ULTRAVNCREPEATE | P31: راهبر سرویس | Q31: بله | R31: بحرانی | S31: متوسط | T31: T1190 | U31: خیر | V31: Patch / Upgrade فوری | W31: محدودسازی exposure و ACL | X31: بله | Y31: راهبر سرویس | Z31: 1405/04/16 | AA31: Open | AB31: https://nvd.nist.gov/vuln/detail/CVE-2026-7840 | AC31: through 1.8.2.2
A32: 31 | B32: 1405/04/19 | C32: SANS @RISK Vol.26 Num.26 / ISC / Vendor Advisory / CISA KEV | D32: Application | E32: Feast | F32: Feature Server | G32: Unauth Arbitrary File Write | H32: CVE-2026-23537 | I32: 9.1 | J32: Critical | K32: Under Review | L32: Unauth Arbitrary File Write | M32: مطابق advisory | N32: /save-document | O32: FEAST-FEATURESERVER | P32: راهبر سرویس | Q32: بله | R32: بحرانی | S32: متوسط | T32: T1190 | U32: خیر | V32: Patch / Upgrade فوری | W32: محدودسازی exposure و ACL | X32: بله | Y32: راهبر سرویس | Z32: 1405/04/16 | AA32: Open | AB32: https://nvd.nist.gov/vuln/detail/CVE-2026-23537 | AC32: /save-document
A33: 32 | B33: 1405/04/19 | C33: SANS @RISK Vol.26 Num.26 / ISC / Vendor Advisory / CISA KEV | D33: Application | E33: NVIDIA | F33: AIStore | G33: Authentication Bypass | H33: CVE-2026-24270 | I33: 9.8 | J33: Critical | K33: Under Review | L33: Authentication Bypass | M33: مطابق advisory | N33: مطابق advisory | O33: NVIDIA-AISTORE | P33: راهبر سرویس | Q33: بله | R33: بحرانی | S33: متوسط | T33: T1190 | U33: خیر | V33: Patch / Upgrade فوری | W33: محدودسازی exposure و ACL | X33: بله | Y33: راهبر سرویس | Z33: 1405/04/16 | AA33: Open | AB33: https://nvd.nist.gov/vuln/detail/CVE-2026-24270
A34: 33 | B34: 1405/04/19 | C34: SANS @RISK Vol.26 Num.26 / ISC / Vendor Advisory / CISA KEV | D34: Application | E34: Control Web Panel | F34: CWP | G34: Blind SQLi RCE | H34: CVE-2026-57517 | I34: 9.8 | J34: Critical | K34: Under Review | L34: Blind SQLi RCE | M34: مطابق advisory | N34: before 0.9.8.1225 | O34: CONTROL WEB PANEL-CWP | P34: راهبر سرویس | Q34: بله | R34: بحرانی | S34: متوسط | T34: T1190 | U34: خیر | V34: Patch / Upgrade فوری | W34: محدودسازی exposure و ACL | X34: بله | Y34: راهبر سرویس | Z34: 1405/04/16 | AA34: Open | AB34: https://nvd.nist.gov/vuln/detail/CVE-2026-57517 | AC34: before 0.9.8.1225
A35: 34 | B35: 1405/04/19 | C35: SANS @RISK Vol.26 Num.26 / ISC / Vendor Advisory / CISA KEV | D35: Application | E35: PACSgear | F35: PACS Scan | G35: Unauthenticated RCE | H35: CVE-2026-58126 | I35: 9.8 | J35: Critical | K35: Under Review | L35: Unauthenticated RCE | M35: مطابق advisory | N35: 5.2.1 port 22222 | O35: PACSGEAR-PACSSCAN | P35: راهبر سرویس | Q35: بله | R35: بحرانی | S35: متوسط | T35: T1190 | U35: خیر | V35: Patch / Upgrade فوری | W35: محدودسازی exposure و ACL | X35: بله | Y35: راهبر سرویس | Z35: 1405/04/16 | AA35: Open | AB35: https://nvd.nist.gov/vuln/detail/CVE-2026-58126 | AC35: 5.2.1 port 22222
A36: 35 | B36: 1405/04/19 | C36: SANS @RISK Vol.26 Num.26 / ISC / Vendor Advisory / CISA KEV | D36: Application | E36: PACSgear | F36: MediaWriter | G36: Unauth Arbitrary File RW RCE | H36: CVE-2026-58127 | I36: 9.8 | J36: Critical | K36: Under Review | L36: Unauth Arbitrary File RW RCE | M36: مطابق advisory | N36: 5.2.1 | O36: PACSGEAR-MEDIAWRITER | P36: راهبر سرویس | Q36: بله | R36: بحرانی | S36: متوسط | T36: T1190 | U36: خیر | V36: Patch / Upgrade فوری | W36: محدودسازی exposure و ACL | X36: بله | Y36: راهبر سرویس | Z36: 1405/04/16 | AA36: Open | AB36: https://nvd.nist.gov/vuln/detail/CVE-2026-58127 | AC36: 5.2.1
A37: 36 | B37: 1405/04/19 | C37: SANS @RISK Vol.26 Num.26 / ISC / Vendor Advisory / CISA KEV | D37: Application | E37: Hoppscotch | F37: Hoppscotch | G37: Mass Assignment Full Takeover | H37: CVE-2026-50160 | I37: 10.0 | J37: Critical | K37: Under Review | L37: Mass Assignment Full Takeover | M37: مطابق advisory | N37: <=2026.4.1 | O37: HOPPSCOTCH-HOPPSCOTCH | P37: راهبر سرویس | Q37: بله | R37: بحرانی | S37: متوسط | T37: T1190 | U37: خیر | V37: Patch / Upgrade فوری | W37: محدودسازی exposure و ACL | X37: بله | Y37: راهبر سرویس | Z37: 1405/04/16 | AA37: Open | AB37: https://nvd.nist.gov/vuln/detail/CVE-2026-50160 | AC37: <=2026.4.1
A38: 37 | B38: 1405/04/19 | C38: SANS @RISK Vol.26 Num.26 / ISC / Vendor Advisory / CISA KEV | D38: Application | E38: Pivotal | F38: Pivotal CRM | G38: Remote Code Execution | H38: CVE-2026-51947 | I38: 9.8 | J38: Critical | K38: Under Review | L38: Remote Code Execution | M38: مطابق advisory | N38: 6.6.4.08 incomplete fix CVE-2026-39253 | O38: PIVOTAL-PIVOTALCRM | P38: راهبر سرویس | Q38: بله | R38: بحرانی | S38: متوسط | T38: T1190 | U38: خیر | V38: Patch / Upgrade فوری | W38: محدودسازی exposure و ACL | X38: بله | Y38: راهبر سرویس | Z38: 1405/04/16 | AA38: Open | AB38: https://nvd.nist.gov/vuln/detail/CVE-2026-51947 | AC38: 6.6.4.08 incomplete fix CVE-2026-39253
A39: 38 | B39: 1405/04/19 | C39: SANS @RISK Vol.26 Num.26 / ISC / Vendor Advisory / CISA KEV | D39: Application | E39: Ubiquiti | F39: UniFi Connect | G39: Command Injection | H39: CVE-2026-50746 | I39: 10.0 | J39: Critical | K39: Under Review | L39: Command Injection | M39: مطابق advisory | N39: Bulletin 066 | O39: UBIQUITI-UNIFICONNECT | P39: راهبر سرویس | Q39: بله | R39: بحرانی | S39: متوسط | T39: T1190 | U39: خیر | V39: Patch / Upgrade فوری | W39: محدودسازی exposure و ACL | X39: بله | Y39: راهبر سرویس | Z39: 1405/04/16 | AA39: Open | AB39: https://nvd.nist.gov/vuln/detail/CVE-2026-50746 | AC39: Bulletin 066
A40: 39 | B40: 1405/04/19 | C40: SANS @RISK Vol.26 Num.26 / ISC / Vendor Advisory / CISA KEV | D40: Application | E40: Ubiquiti | F40: UniFi Access | G40: Command Injection | H40: CVE-2026-50748 | I40: 9.9 | J40: Critical | K40: Under Review | L40: Command Injection | M40: مطابق advisory | N40: Bulletin 066 | O40: UBIQUITI-UNIFIACCESS | P40: راهبر سرویس | Q40: بله | R40: بحرانی | S40: متوسط | T40: T1190 | U40: خیر | V40: Patch / Upgrade فوری | W40: محدودسازی exposure و ACL | X40: بله | Y40: راهبر سرویس | Z40: 1405/04/16 | AA40: Open | AB40: https://nvd.nist.gov/vuln/detail/CVE-2026-50748 | AC40: Bulletin 066
...

Sheet Assets
A1: Asset ID | B1: Hostname | C1: FQDN | D1: IP | E1: Owner Team | F1: Business Service | G1: Environment | H1: Internet-facing | I1: Criticality | J1: OS/Platform | K1: Last Patch Date | L1: Notes
A2: ADOBE-CAMPAIGNCLASSIC | B2: adobe-campaignclassic | C2: TBD | D2: TBD | E2: راهبر سرویس | F2: Adobe | G2: Production | H2: بله | I2: بحرانی | J2: TBD | K2: TBD | L2: مطابق CMDB تکمیل شود
A3: ADOBE-COLDFUSION | B3: adobe-coldfusion | C3: TBD | D3: TBD | E3: راهبر سرویس | F3: Adobe | G3: Production | H3: بله | I3: بحرانی | J3: TBD | K3: TBD | L3: مطابق CMDB تکمیل شود
A4: APACHE-AIRFLOW | B4: apache-airflow | C4: TBD | D4: TBD | E4: راهبر سرویس | F4: Apache | G4: Production | H4: بله | I4: بحرانی | J4: TBD | K4: TBD | L4: مطابق CMDB تکمیل شود
A5: APACHE-CAMEL | B5: apache-camel | C5: TBD | D5: TBD | E5: راهبر سرویس | F5: Apache | G5: Production | H5: بله | I5: بحرانی | J5: TBD | K5: TBD | L5: مطابق CMDB تکمیل شود
A6: APACHE-IOTDB | B6: apache-iotdb | C6: TBD | D6: TBD | E6: راهبر سرویس | F6: Apache | G6: Production | H6: بله | I6: بحرانی | J6: TBD | K6: TBD | L6: مطابق CMDB تکمیل شود
A7: APEREO-CAS | B7: apereo-cas | C7: TBD | D7: TBD | E7: راهبر سرویس | F7: Apereo | G7: Production | H7: بله | I7: بحرانی | J7: TBD | K7: TBD | L7: مطابق CMDB تکمیل شود
A8: ARDUPILOT-PLANE | B8: ardupilot-plane | C8: TBD | D8: TBD | E8: راهبر سرویس | F8: ardupilot | G8: Production | H8: بله | I8: بحرانی | J8: TBD | K8: TBD | L8: مطابق CMDB تکمیل شود
A9: AUTOBANGUMI-AUTOBANGUMI | B9: autobangumi-autobangumi | C9: TBD | D9: TBD | E9: راهبر سرویس | F9: AutoBangumi | G9: Production | H9: بله | I9: بحرانی | J9: TBD | K9: TBD | L9: مطابق CMDB تکمیل شود
A10: BEYONDTRUST-REMOTESUPPOR | B10: beyondtrust-remotesuppor | C10: TBD | D10: TBD | E10: راهبر سرویس | F10: BeyondTrust | G10: Production | H10: بله | I10: بحرانی | J10: TBD | K10: TBD | L10: مطابق CMDB تکمیل شود
A11: BMC-CONTROLMSERVER | B11: bmc-controlmserver | C11: TBD | D11: TBD | E11: راهبر سرویس | F11: BMC | G11: Production | H11: بله | I11: بحرانی | J11: TBD | K11: TBD | L11: مطابق CMDB تکمیل شود
A12: CIENA-SFTPSERVER | B12: ciena-sftpserver | C12: TBD | D12: TBD | E12: راهبر سرویس | F12: Ciena | G12: Production | H12: بله | I12: بحرانی | J12: TBD | K12: TBD | L12: مطابق CMDB تکمیل شود
... A56: ULTRAVNC-ULTRAVNCREPEATE | B56: ultravnc-ultravncrepeate | C56: TBD | D56: TBD | E56: راهبر سرویس | F56: UltraVNC | G56: Production | H56: بله | I56: بحرانی | J56: TBD | K56: TBD | L56: مطابق CMDB تکمیل شود

Sheet Tracking
A1: CVE | B1: Asset ID | C1: Assigned To | D1: Priority | E1: Action Type | F1: Start Date | G1: Due Date | H1: Status | I1: Verification Method | J1: Evidence | K1: Closure Date | L1: Risk Accepted By | M1: Remarks
A2: CVE-2026-48282 | B2: ADOBE-COLDFUSION | C2: راهبر سرویس | D2: P1 - Critical | E2: Patch / Upgrade فوری | F2: 1405/04/19 | G2: 1405/04/12 | H2: Open | I2: version check + config review | M2: KEV since 2026-07-07 APSB26-68
A3: CVE-2026-48276 | B3: ADOBE-COLDFUSION | C3: راهبر سرویس | D3: P1 - Critical | E3: Patch / Upgrade فوری | F3: 1405/04/19 | G3: 1405/04/16 | H3: Open | I3: version check + config review | M3: APSB26-68
A4: CVE-2026-48277 | B4: ADOBE-COLDFUSION | C4: راهبر سرویس | D4: P1 - Critical | E4: Patch / Upgrade فوری | F4: 1405/04/19 | G4: 1405/04/16 | H4: Open | I4: version check + config review | M4: APSB26-68
A5: CVE-2026-48281 | B5: ADOBE-COLDFUSION | C5: راهبر سرویس | D5: P1 - Critical | E5: Patch / Upgrade فوری | F5: 1405/04/19 | G5: 1405/04/16 | H5: Open | I5: version check + config review | M5: APSB26-68
A6: CVE-2026-48283 | B6: ADOBE-COLDFUSION | C6: راهبر سرویس | D6: P1 - Critical | E6: Patch / Upgrade فوری | F6: 1405/04/19 | G6: 1405/04/16 | H6: Open | I6: version check + config review | M6: APSB26-68
A7: CVE-2026-48313 | B7: ADOBE-COLDFUSION | C7: راهبر سرویس | D7: P1 - Critical | E7: Patch / Upgrade فوری | F7: 1405/04/19 | G7: 1405/04/16 | H7: Open | I7: version check + config review | M7: APSB26-68
A8: CVE-2026-48315 | B8: ADOBE-COLDFUSION | C8: راهبر سرویس | D8: P1 - Critical | E8: Patch / Upgrade فوری | F8: 1405/04/19 | G8: 1405/04/16 | H8: Open | I8: version check + config review | M8: APSB26-68
A9: CVE-2026-48316 | B9: ADOBE-COLDFUSION | C9: راهبر سرویس | D9: P1 - Critical | E9: Patch / Upgrade فوری | F9: 1405/04/19 | G9: 1405/04/16 | H9: Open | I9: version check + config review | M9: APSB26-68
A10: CVE-2026-48286 | B10: ADOBE-CAMPAIGNCLASSIC | C10: راهبر سرویس | D10: P1 - Critical | E10: Patch / Upgrade فوری | F10: 1405/04/19 | G10: 1405/04/16 | H10: Open | I10: version check + config review | M10: <=7.4.3 build 9396 APSB26-69
A11: CVE-2026-56290 | B11: JOOMLA-PAGEBUILDERCK | C11: راهبر سرویس | D11: P1 - Critical | E11: Patch / Upgrade فوری | F11: 1405/04/19 | G11: 1405/04/12 | H11: Open | I11: version check + config review | M11: KEV since 2026-07-07
A12: CVE-2026-40139 | B12: BEYONDTRUST-REMOTESUPPOR | C12: راهبر سرویس | D12: P1 - Critical | E12: Patch / Upgrade فوری | F12: 1405/04/19 | G12: 1405/04/16 | H12: Open | I12: version check + config review | M12: BT26-03
A13: CVE-2026-40138 | B13: BEYONDTRUST-REMOTESUPPOR | C13: راهبر سرویس | D13: P2 - High | E13: Patch / Upgrade فوری | F13: 1405/04/19 | G13: 1405/04/16 | H13: Open | I13: version check + config review | M13: BT26-03
A14: CVE-2026-40141 | B14: BEYONDTRUST-REMOTESUPPOR | C14: راهبر سرویس | D14: P1 - Critical | E14: Patch / Upgrade فوری | F14: 1405/04/19 | G14: 1405/04/16 | H14: Open | I14: version check + config review | M14: BT26-03
A15: CVE-2026-58289 | B15: MICROSOFT-EDGECHROMIUM | C15: راهبر سرویس | D15: P1 - Critical | E15: Patch / Upgrade فوری | F15: 1405/04/19 | G15: 1405/04/16 | H15: Open | I15: version check + config review
A16: CVE-2026-10536 | B16: CURL-LIBCURL | C16: راهبر سرویس | D16: P1 - Critical | E16: Patch / Upgrade فوری | F16: 1405/04/19 | G16: 1405/04/16 | H16: Open | I16: version check + config review
A17: CVE-2026-8924 | B17: CURL-LIBCURL | C17: راهبر سرویس | D17: P1 - Critical | E17: Patch / Upgrade فوری | F17: 1405/04/19 | G17: 1405/04/16 | H17: Open | I17: version check + config review
A18: CVE-2026-8926 | B18: CURL-LIBCURL | C18: راهبر سرویس | D18: P1 - Critical | E18: Patch / Upgrade فوری | F18: 1405/04/19 | G18: 1405/04/16 | H18: Open | I18: version check + config review
A19: CVE-2026-9547 | B19: CURL-LIBCURL | C19: راهبر سرویس | D19: P1 - Critical | E19: Patch / Upgrade فوری | F19: 1405/04/19 | G19: 1405/04/16 | H19: Open | I19: version check + config review
A20: CVE-2026-11564 | B20: CURL-LIBCURL | C20: راهبر سرویس | D20: P1 - Critical | E20: Patch / Upgrade فوری | F20: 1405/04/19 | G20: 1405/04/16 | H20: Open | I20: version check + config review
A21: CVE-2026-34037 | B21: COOLIFY-COOLIFY | C21: راهبر سرویس | D21: P1 - Critical | E21: Patch / Upgrade فوری | F21: 1405/04/19 | G21: 1405/04/16 | H21: Open | I21: version check + config review
A22: CVE-2026-34038 | B22: COOLIFY-COOLIFY | C22: راهبر سرویس | D22: P1 - Critical | E22: Patch / Upgrade فوری | F22: 1405/04/19 | G22: 1405/04/16 | H22: Open | I22: version check + config review
A23: CVE-2026-34047 | B23: COOLIFY-COOLIFY | C23: راهبر سرویس | D23: P1 - Critical | E23: Patch / Upgrade فوری | F23: 1405/04/19 | G23: 1405/04/16 | H23: Open | I23: version check + config review
A24: CVE-2026-34048 | B24: COOLIFY-COOLIFY | C24: راهبر سرویس | D24: P1 - Critical | E24: Patch / Upgrade فوری | F24: 1405/04/19 | G24: 1405/04/16 | H24: Open | I24: version check + config review
A25: CVE-2026-56700 | B25: GRAV-GRAVCMS | C25: راهبر سرویس | D25: P1 - Critical | E25: Patch / Upgrade فوری | F25: 1405/04/19 | G25: 1405/04/16 | H25: Open | I25: version check + config review | M25: fixed in 2.0.0-beta.2
A26: CVE-2026-58116 | B26: HIYOUGA-LLAMAFACTORY | C26: راهبر سرویس | D26: P1 - Critical | E26: Patch / Upgrade فوری | F26: 1405/04/19 | G26: 1405/04/16 | H26: Open | I26: version check + config review | M26: through 0.9.5
A27: CVE-2026-58166 | B27: OPENBMB-CHATDEV | C27: راهبر سرویس | D27: P1 - Critical | E27: Patch / Upgrade فوری | F27: 1405/04/19 | G27: 1405/04/16 | H27: Open | I27: version check + config review | M27: through 2.2.0
A28: CVE-2026-58138 | B28: ORKES-CONDUCTOR | C28: راهبر سرویس | D28: P1 - Critical | E28: Patch / Upgrade فوری | F28: 1405/04/19 | G28: 1405/04/16 | H28: Open | I28: version check + config review | M28: 3.21.21 before 3.30.2
A29: CVE-2026-10109 | B29: IBM-DB2 | C29: راهبر سرویس | D29: P1 - Critical | E29: Patch / Upgrade فوری | F29: 1405/04/19 | G29: 1405/04/16 | H29: Open | I29: version check + config review | M29: 11.5.0-11.5.9 / 12.1.0-12.1.4
A30: CVE-2026-58449 | B30: TXTAI-TXTAI | C30: راهبر سرویس | D30: P1 - Critical | E30: Patch / Upgrade فوری | F30: 1405/04/19 | G30: 1405/04/16 | H30: Open | I30: version check + config review | M30: through 9.10.0 /reindex
A31: CVE-2026-7840 | B31: ULTRAVNC-ULTRAVNCREPEATE | C31: راهبر سرویس | D31: P1 - Critical | E31: Patch / Upgrade فوری | F31: 1405/04/19 | G31: 1405/04/16 | H31: Open | I31: version check + config review | M31: through 1.8.2.2
A32: CVE-2026-23537 | B32: FEAST-FEATURESERVER | C32: راهبر سرویس | D32: P1 - Critical | E32: Patch / Upgrade فوری | F32: 1405/04/19 | G32: 1405/04/16 | H32: Open | I32: version check + config review | M32: /save-document
A33: CVE-2026-24270 | B33: NVIDIA-AISTORE | C33: راهبر سرویس | D33: P1 - Critical | E33: Patch / Upgrade فوری | F33: 1405/04/19 | G33: 1405/04/16 | H33: Open | I33: version check + config review
A34: CVE-2026-57517 | B34: CONTROL WEB PANEL-CWP | C34: راهبر سرویس | D34: P1 - Critical | E34: Patch / Upgrade فوری | F34: 1405/04/19 | G34: 1405/04/16 | H34: Open | I34: version check + config review | M34: before 0.9.8.1225
A35: CVE-2026-58126 | B35: PACSGEAR-PACSSCAN | C35: راهبر سرویس | D35: P1 - Critical | E35: Patch / Upgrade فوری | F35: 1405/04/19 | G35: 1405/04/16 | H35: Open | I35: version check + config review | M35: 5.2.1 port 22222
A36: CVE-2026-58127 | B36: PACSGEAR-MEDIAWRITER | C36: راهبر سرویس | D36: P1 - Critical | E36: Patch / Upgrade فوری | F36: 1405/04/19 | G36: 1405/04/16 | H36: Open | I36: version check + config review | M36: 5.2.1
A37: CVE-2026-50160 | B37: HOPPSCOTCH-HOPPSCOTCH | C37: راهبر سرویس | D37: P1 - Critical | E37: Patch / Upgrade فوری | F37: 1405/04/19 | G37: 1405/04/16 | H37: Open | I37: version check + config review | M37: <=2026.4.1
A38: CVE-2026-51947 | B38: PIVOTAL-PIVOTALCRM | C38: راهبر سرویس | D38: P1 - Critical | E38: Patch / Upgrade فوری | F38: 1405/04/19 | G38: 1405/04/16 | H38: Open | I38: version check + config review | M38: 6.6.4.08 incomplete fix CVE-2026-39253
A39: CVE-2026-50746 | B39: UBIQUITI-UNIFICONNECT | C39: راهبر سرویس | D39: P1 - Critical | E39: Patch / Upgrade فوری | F39: 1405/04/19 | G39: 1405/04/16 | H39: Open | I39: version check + config review | M39: Bulletin 066
A40: CVE-2026-50748 | B40: UBIQUITI-UNIFIACCESS | C40: راهبر سرویس | D40: P1 - Critical | E40: Patch / Upgrade فوری | F40: 1405/04/19 | G40: 1405/04/16 | H40: Open | I40: version check + config review | M40: Bulletin 066
...

Sheet MessageTemplates
A1: Template | B1: Text
A2: پیام رسمی کامل | B2: موضوع: اطلاع‌رسانی امنیتی هفتگی آسیب‌پذیری‌ها و اقدامات مورد انتظار با سلام، بر اساس پایش منابع SANS @RISK، ISC، Vendor Advisory و CISA KEV، مجموعه‌ای از آسیب‌پذیری‌های مهم و بحرانی در لایه‌های مختلف شامل OS، Service، Package، API، Application و Security Appliance شناسایی شده است. بخشی از موارد دارای active exploitation یا قرارگرفته در KEV هستند و نیازمند اقدام فوری می‌باشند. خلاصه وضعیت: - تعداد کل موارد: [تکمیل شود] - موارد Critical: [تکمیل شود] - موارد دارای KEV: [تکمیل شود] - دارایی‌های Internet-facing: [تکمیل شود] - موارد نیازمند اقدام فوری کمتر از 72 ساعت: [تکمیل شود] اقدام مورد انتظار از راهبران سرویس: 1. بررسی تطبیق نسخه دارایی‌های تحت مالکیت با فهرست پیوست 2. اعلام وضعیت اثرپذیری هر دارایی در ستون‌های Tracking 3. اجرای Patch/Upgrade یا ثبت Mitigation موقت در صورت عدم امکان اصلاح فوری 4. ارسال مستندات تأیید اصلاح شامل نسخه نصب‌شده، زمان اعمال تغییر و نتیجه بررسی 5. در موارد KEV یا Internet-facing، اولویت اقدام را حداکثر افزایش دهید 6. در صورت مشاهده IOC، رفتار غیرعادی، crash، تغییر فایل، account abuse یا نشانه‌های webshell، موضوع فوراً به SOC/IR اعلام شود الزام‌های عملیاتی: - دارایی‌های در معرض اینترنت با سرویس‌های مدیریتی باز، در اولویت اول قرار دارند - دسترسی مدیریتی باید به حداقل رسیده و با MFA، ACL و segmentation کنترل شود - در مواردی که Patch فوری ممکن نیست، Mitigation موقت و ثبت Risk Acceptance الزامی است - لاگ‌های سیستم، وب‌سرور، احراز هویت، و تغییرات فایل برای بازه زمانی اخیر بررسی شوند پیوست: - Vulnerabilities.xlsx - Vulnerabilities.csv با تشکر [نام واحد / نام فرستنده] [سمت] [اطلاعات تماس]
A3: پیام کوتاه گروه | B3: همکاران محترم، فهرست آسیب‌پذیری‌های جدید و بحرانی این هفته به همراه نسخه‌های تحت تأثیر، میزان شدت، وضعیت KEV/Exploit و راهکار اصلاح در فایل پیوست ارسال شد. لطفاً موارد مرتبط با دارایی‌های تحت مالکیت خود را بررسی کرده و وضعیت را در ستون Tracking ثبت کنید. برای موارد Critical/KEV و دارایی‌های Internet-facing، اقدام اصلاحی فوری و اعلام نتیجه الزامی است. پیوست: - Vulnerabilities.csv - Vulnerabilities.xlsx

Sheet _Lists
A2: Security Appliance | B2: Critical | C2: KEV | D2: بله | E2: Open
A3: Package / Hosting | B3: High | C3: Under Review | D3: خیر | E3: In Progress
A4: Service / Web | B4: Medium | C4: Active Exploitation Suspected | E4: Mitigated
A5: Package / Crypto | B5: Low | E5: Patched
A6: Application | E6: Closed
A7: Application / NAS | E7: Risk Accepted
A8: OS / NAS
A9: Service / VoIP
A10: API / Framework
A11: Application / E-commerce
A12: Package / PHP
A13: Package / JS
A14: Application / IAM
A15: Application / ERP
A16: Service / SIEM
A17: Application / Database

Sheet Notification
G1: تاریخ میلادی: | H1: =TEXT(TODAY(),"yyyy/mm/dd") -> 2026/07/10
G2: تاریخ شمسی: | H2: =TEXT(TODAY(),"[$-fa-IR,16]yyyy/mm/dd") -> 1405/04/19
A3: مسئولیت مطالعه، صحت‌سنجی و رفع هر مورد بر عهده راهبر سرویس مربوطه است و لازم است اقدامات اصلاحی در اولین فرصت انجام و نتیجه ثبت شود. | B3: مسئولیت مطالعه، صحت‌سنجی و رفع هر مورد، بر عهده راهبر سرویس مربوطه است و لازم است اقدامات اصلاحی در اولین فرصت انجام و گزارش شود.
A4: ردیف | B4: منبع | C4: لایه_دسته‌بندی | D4: Vendor | E4: محصول_سرویس | F4: مولفه_آسیب‌پذیر | G4: CVE_Advisory | H4: CVSS | I4: سطح_شدت
A5: ==IF(B5="","",ROW()-4) | B5: ==IF(INDEX(Vulnerabilities!$C:$C,ROW()-3)="","",INDEX(Vulnerabilities!$C:$C,ROW()-3)) | C5: ==IF(INDEX(Vulnerabilities!$D:$D,ROW()-3)="","",INDEX(Vulnerabilities!$D:$D,ROW()-3)) | D5: ==IF(INDEX(Vulnerabilities!$E:$E,ROW()-3)="","",INDEX(Vulnerabilities!$E:$E,ROW()-3)) | E5: ==IF(INDEX(Vulnerabilities!$F:$F,ROW()-3)="","",INDEX(Vulnerabilities!$F:$F,ROW()-3)) | F5: ==IF(INDEX(Vulnerabilities!$G:$G,ROW()-3)="","",INDEX(Vulnerabilities!$G:$G,ROW()-3)) | G5: ==IF(INDEX(Vulnerabilities!$H:$H,ROW()-3)="","",INDEX(Vulnerabilities!$H:$H,ROW()-3)) | H5: ==IF(INDEX(Vulnerabilities!$I:$I,ROW()-3)="","",INDEX(Vulnerabilities!$I:$I,ROW()-3)) | I5: ==IF(INDEX(Vulnerabilities!$J:$J,ROW()-3)="","",INDEX(Vulnerabilities!$J:$J,ROW()-3))
A6: ==IF(B6="","",ROW()-4) | B6: ==IF(INDEX(Vulnerabilities!$C:$C,ROW()-3)="","",INDEX(Vulnerabilities!$C:$C,ROW()-3)) | C6: ==IF(INDEX(Vulnerabilities!$D:$D,ROW()-3)="","",INDEX(Vulnerabilities!$D:$D,ROW()-3)) | D6: ==IF(INDEX(Vulnerabilities!$E:$E,ROW()-3)="","",INDEX(Vulnerabilities!$E:$E,ROW()-3)) | E6: ==IF(INDEX(Vulnerabilities!$F:$F,ROW()-3)="","",INDEX(Vulnerabilities!$F:$F,ROW()-3)) | F6: ==IF(INDEX(Vulnerabilities!$G:$G,ROW()-3)="","",INDEX(Vulnerabilities!$G:$G,ROW()-3)) | G6: ==IF(INDEX(Vulnerabilities!$H:$H,ROW()-3)="","",INDEX(Vulnerabilities!$H:$H,ROW()-3)) | H6: ==IF(INDEX(Vulnerabilities!$I:$I,ROW()-3)="","",INDEX(Vulnerabilities!$I:$I,ROW()-3)) | I6: ==IF(INDEX(Vulnerabilities!$J:$J,ROW()-3)="","",INDEX(Vulnerabilities!$J:$J,ROW()-3))
A7: ==IF(B7="","",ROW()-4) | B7: ==IF(INDEX(Vulnerabilities!$C:$C,ROW()-3)="","",INDEX(Vulnerabilities!$C:$C,ROW()-3)) | C7: ==IF(INDEX(Vulnerabilities!$D:$D,ROW()-3)="","",INDEX(Vulnerabilities!$D:$D,ROW()-3)) | D7: ==IF(INDEX(Vulnerabilities!$E:$E,ROW()-3)="","",INDEX(Vulnerabilities!$E:$E,ROW()-3)) | E7: ==IF(INDEX(Vulnerabilities!$F:$F,ROW()-3)="","",INDEX(Vulnerabilities!$F:$F,ROW()-3)) | F7: ==IF(INDEX(Vulnerabilities!$G:$G,ROW()-3)="","",INDEX(Vulnerabilities!$G:$G,ROW()-3)) | G7: ==IF(INDEX(Vulnerabilities!$H:$H,ROW()-3)="","",INDEX(Vulnerabilities!$H:$H,ROW()-3)) | H7: ==IF(INDEX(Vulnerabilities!$I:$I,ROW()-3)="","",INDEX(Vulnerabilities!$I:$I,ROW()-3)) | I7: ==IF(INDEX(Vulnerabilities!$J:$J,ROW()-3)="","",INDEX(Vulnerabilities!$J:$J,ROW()-3))
A8: ==IF(B8="","",ROW()-4) | B8: ==IF(INDEX(Vulnerabilities!$C:$C,ROW()-3)="","",INDEX(Vulnerabilities!$C:$C,ROW()-3)) | C8: ==IF(INDEX(Vulnerabilities!$D:$D,ROW()-3)="","",INDEX(Vulnerabilities!$D:$D,ROW()-3)) | D8: ==IF(INDEX(Vulnerabilities!$E:$E,ROW()-3)="","",INDEX(Vulnerabilities!$E:$E,ROW()-3)) | E8: ==IF(INDEX(Vulnerabilities!$F:$F,ROW()-3)="","",INDEX(Vulnerabilities!$F:$F,ROW()-3)) | F8: ==IF(INDEX(Vulnerabilities!$G:$G,ROW()-3)="","",INDEX(Vulnerabilities!$G:$G,ROW()-3)) | G8: ==IF(INDEX(Vulnerabilities!$H:$H,ROW()-3)="","",INDEX(Vulnerabilities!$H:$H,ROW()-3)) | H8: ==IF(INDEX(Vulnerabilities!$I:$I,ROW()-3)="","",INDEX(Vulnerabilities!$I:$I,ROW()-3)) | I8: ==IF(INDEX(Vulnerabilities!$J:$J,ROW()-3)="","",INDEX(Vulnerabilities!$J:$J,ROW()-3))
A9: ==IF(B9="","",ROW()-4) | B9: ==IF(INDEX(Vulnerabilities!$C:$C,ROW()-3)="","",INDEX(Vulnerabilities!$C:$C,ROW()-3)) | C9: ==IF(INDEX(Vulnerabilities!$D:$D,ROW()-3)="","",INDEX(Vulnerabilities!$D:$D,ROW()-3)) | D9: ==IF(INDEX(Vulnerabilities!$E:$E,ROW()-3)="","",INDEX(Vulnerabilities!$E:$E,ROW()-3)) | E9: ==IF(INDEX(Vulnerabilities!$F:$F,ROW()-3)="","",INDEX(Vulnerabilities!$F:$F,ROW()-3)) | F9: ==IF(INDEX(Vulnerabilities!$G:$G,ROW()-3)="","",INDEX(Vulnerabilities!$G:$G,ROW()-3)) | G9: ==IF(INDEX(Vulnerabilities!$H:$H,ROW()-3)="","",INDEX(Vulnerabilities!$H:$H,ROW()-3)) | H9: ==IF(INDEX(Vulnerabilities!$I:$I,ROW()-3)="","",INDEX(Vulnerabilities!$I:$I,ROW()-3)) | I9: ==IF(INDEX(Vulnerabilities!$J:$J,ROW()-3)="","",INDEX(Vulnerabilities!$J:$J,ROW()-3))
A10: ==IF(B10="","",ROW()-4) | B10: ==IF(INDEX(Vulnerabilities!$C:$C,ROW()-3)="","",INDEX(Vulnerabilities!$C:$C,ROW()-3)) | C10: ==IF(INDEX(Vulnerabilities!$D:$D,ROW()-3)="","",INDEX(Vulnerabilities!$D:$D,ROW()-3)) | D10: ==IF(INDEX(Vulnerabilities!$E:$E,ROW()-3)="","",INDEX(Vulnerabilities!$E:$E,ROW()-3)) | E10: ==IF(INDEX(Vulnerabilities!$F:$F,ROW()-3)="","",INDEX(Vulnerabilities!$F:$F,ROW()-3)) | F10: ==IF(INDEX(Vulnerabilities!$G:$G,ROW()-3)="","",INDEX(Vulnerabilities!$G:$G,ROW()-3)) | G10: ==IF(INDEX(Vulnerabilities!$H:$H,ROW()-3)="","",INDEX(Vulnerabilities!$H:$H,ROW()-3)) | H10: ==IF(INDEX(Vulnerabilities!$I:$I,ROW()-3)="","",INDEX(Vulnerabilities!$I:$I,ROW()-3)) | I10: ==IF(INDEX(Vulnerabilities!$J:$J,ROW()-3)="","",INDEX(Vulnerabilities!$J:$J,ROW()-3))
A11: ==IF(B11="","",ROW()-4) | B11: ==IF(INDEX(Vulnerabilities!$C:$C,ROW()-3)="","",INDEX(Vulnerabilities!$C:$C,ROW()-3)) | C11: ==IF(INDEX(Vulnerabilities!$D:$D,ROW()-3)="","",INDEX(Vulnerabilities!$D:$D,ROW()-3)) | D11: ==IF(INDEX(Vulnerabilities!$E:$E,ROW()-3)="","",INDEX(Vulnerabilities!$E:$E,ROW()-3)) | E11: ==IF(INDEX(Vulnerabilities!$F:$F,ROW()-3)="","",INDEX(Vulnerabilities!$F:$F,ROW()-3)) | F11: ==IF(INDEX(Vulnerabilities!$G:$G,ROW()-3)="","",INDEX(Vulnerabilities!$G:$G,ROW()-3)) | G11: ==IF(INDEX(Vulnerabilities!$H:$H,ROW()-3)="","",INDEX(Vulnerabilities!$H:$H,ROW()-3)) | H11: ==IF(INDEX(Vulnerabilities!$I:$I,ROW()-3)="","",INDEX(Vulnerabilities!$I:$I,ROW()-3)) | I11: ==IF(INDEX(Vulnerabilities!$J:$J,ROW()-3)="","",INDEX(Vulnerabilities!$J:$J,ROW()-3))
A12: ==IF(B12="","",ROW()-4) | B12: ==IF(INDEX(Vulnerabilities!$C:$C,ROW()-3)="","",INDEX(Vulnerabilities!$C:$C,ROW()-3)) | C12: ==IF(INDEX(Vulnerabilities!$D:$D,ROW()-3)="","",INDEX(Vulnerabilities!$D:$D,ROW()-3)) | D12: ==IF(INDEX(Vulnerabilities!$E:$E,ROW()-3)="","",INDEX(Vulnerabilities!$E:$E,ROW()-3)) | E12: ==IF(INDEX(Vulnerabilities!$F:$F,ROW()-3)="","",INDEX(Vulnerabilities!$F:$F,ROW()-3)) | F12: ==IF(INDEX(Vulnerabilities!$G:$G,ROW()-3)="","",INDEX(Vulnerabilities!$G:$G,ROW()-3)) | G12: ==IF(INDEX(Vulnerabilities!$H:$H,ROW()-3)="","",INDEX(Vulnerabilities!$H:$H,ROW()-3)) | H12: ==IF(INDEX(Vulnerabilities!$I:$I,ROW()-3)="","",INDEX(Vulnerabilities!$I:$I,ROW()-3)) | I12: ==IF(INDEX(Vulnerabilities!$J:$J,ROW()-3)="","",INDEX(Vulnerabilities!$J:$J,ROW()-3))
A13: ==IF(B13="","",ROW()-4) | B13: ==IF(INDEX(Vulnerabilities!$C:$C,ROW()-3)="","",INDEX(Vulnerabilities!$C:$C,ROW()-3)) | C13: ==IF(INDEX(Vulnerabilities!$D:$D,ROW()-3)="","",INDEX(Vulnerabilities!$D:$D,ROW()-3)) | D13: ==IF(INDEX(Vulnerabilities!$E:$E,ROW()-3)="","",INDEX(Vulnerabilities!$E:$E,ROW()-3)) | E13: ==IF(INDEX(Vulnerabilities!$F:$F,ROW()-3)="","",INDEX(Vulnerabilities!$F:$F,ROW()-3)) | F13: ==IF(INDEX(Vulnerabilities!$G:$G,ROW()-3)="","",INDEX(Vulnerabilities!$G:$G,ROW()-3)) | G13: ==IF(INDEX(Vulnerabilities!$H:$H,ROW()-3)="","",INDEX(Vulnerabilities!$H:$H,ROW()-3)) | H13: ==IF(INDEX(Vulnerabilities!$I:$I,ROW()-3)="","",INDEX(Vulnerabilities!$I:$I,ROW()-3)) | I13: ==IF(INDEX(Vulnerabilities!$J:$J,ROW()-3)="","",INDEX(Vulnerabilities!$J:$J,ROW()-3))
A14: ==IF(B14="","",ROW()-4) | B14: ==IF(INDEX(Vulnerabilities!$C:$C,ROW()-3)="","",INDEX(Vulnerabilities!$C:$C,ROW()-3)) | C14: ==IF(INDEX(Vulnerabilities!$D:$D,ROW()-3)="","",INDEX(Vulnerabilities!$D:$D,ROW()-3)) | D14: ==IF(INDEX(Vulnerabilities!$E:$E,ROW()-3)="","",INDEX(Vulnerabilities!$E:$E,ROW()-3)) | E14: ==IF(INDEX(Vulnerabilities!$F:$F,ROW()-3)="","",INDEX(Vulnerabilities!$F:$F,ROW()-3)) | F14: ==IF(INDEX(Vulnerabilities!$G:$G,ROW()-3)="","",INDEX(Vulnerabilities!$G:$G,ROW()-3)) | G14: ==IF(INDEX(Vulnerabilities!$H:$H,ROW()-3)="","",INDEX(Vulnerabilities!$H:$H,ROW()-3)) | H14: ==IF(INDEX(Vulnerabilities!$I:$I,ROW()-3)="","",INDEX(Vulnerabilities!$I:$I,ROW()-3)) | I14: ==IF(INDEX(Vulnerabilities!$J:$J,ROW()-3)="","",INDEX(Vulnerabilities!$J:$J,ROW()-3))
A15: ==IF(B15="","",ROW()-4) | B15: ==IF(INDEX(Vulnerabilities!$C:$C,ROW()-3)="","",INDEX(Vulnerabilities!$C:$C,ROW()-3)) | C15: ==IF(INDEX(Vulnerabilities!$D:$D,ROW()-3)="","",INDEX(Vulnerabilities!$D:$D,ROW()-3)) | D15: ==IF(INDEX(Vulnerabilities!$E:$E,ROW()-3)="","",INDEX(Vulnerabilities!$E:$E,ROW()-3)) | E15: ==IF(INDEX(Vulnerabilities!$F:$F,ROW()-3)="","",INDEX(Vulnerabilities!$F:$F,ROW()-3)) | F15: ==IF(INDEX(Vulnerabilities!$G:$G,ROW()-3)="","",INDEX(Vulnerabilities!$G:$G,ROW()-3)) | G15: ==IF(INDEX(Vulnerabilities!$H:$H,ROW()-3)="","",INDEX(Vulnerabilities!$H:$H,ROW()-3)) | H15: ==IF(INDEX(Vulnerabilities!$I:$I,ROW()-3)="","",INDEX(Vulnerabilities!$I:$I,ROW()-3)) | I15: ==IF(INDEX(Vulnerabilities!$J:$J,ROW()-3)="","",INDEX(Vulnerabilities!$J:$J,ROW()-3))
A16: ==IF(B16="","",ROW()-4) | B16: ==IF(INDEX(Vulnerabilities!$C:$C,ROW()-3)="","",INDEX(Vulnerabilities!$C:$C,ROW()-3)) | C16: ==IF(INDEX(Vulnerabilities!$D:$D,ROW()-3)="","",INDEX(Vulnerabilities!$D:$D,ROW()-3)) | D16: ==IF(INDEX(Vulnerabilities!$E:$E,ROW()-3)="","",INDEX(Vulnerabilities!$E:$E,ROW()-3)) | E16: ==IF(INDEX(Vulnerabilities!$F:$F,ROW()-3)="","",INDEX(Vulnerabilities!$F:$F,ROW()-3)) | F16: ==IF(INDEX(Vulnerabilities!$G:$G,ROW()-3)="","",INDEX(Vulnerabilities!$G:$G,ROW()-3)) | G16: ==IF(INDEX(Vulnerabilities!$H:$H,ROW()-3)="","",INDEX(Vulnerabilities!$H:$H,ROW()-3)) | H16: ==IF(INDEX(Vulnerabilities!$I:$I,ROW()-3)="","",INDEX(Vulnerabilities!$I:$I,ROW()-3)) | I16: ==IF(INDEX(Vulnerabilities!$J:$J,ROW()-3)="","",INDEX(Vulnerabilities!$J:$J,ROW()-3))
... A150: ==IF(B150="","",ROW()-4) | B150: ==IF(INDEX(Vulnerabilities!$C:$C,ROW()-3)="","",INDEX(Vulnerabilities!$C:$C,ROW()-3)) | C150: ==IF(INDEX(Vulnerabilities!$D:$D,ROW()-3)="","",INDEX(Vulnerabilities!$D:$D,ROW()-3)) | D150: ==IF(INDEX(Vulnerabilities!$E:$E,ROW()-3)="","",INDEX(Vulnerabilities!$E:$E,ROW()-3)) | E150: ==IF(INDEX(Vulnerabilities!$F:$F,ROW()-3)="","",INDEX(Vulnerabilities!$F:$F,ROW()-3)) | F150: ==IF(INDEX(Vulnerabilities!$G:$G,ROW()-3)="","",INDEX(Vulnerabilities!$G:$G,ROW()-3)) | G150: ==IF(INDEX(Vulnerabilities!$H:$H,ROW()-3)="","",INDEX(Vulnerabilities!$H:$H,ROW()-3)) | H150: ==IF(INDEX(Vulnerabilities!$I:$I,ROW()-3)="","",INDEX(Vulnerabilities!$I:$I,ROW()-3)) | I150: ==IF(INDEX(Vulnerabilities!$J:$J,ROW()-3)="","",INDEX(Vulnerabilities!$J:$J,ROW()-3))
A151: =IF(B151="","",ROW()-4) | B151: =IF(INDEX(Vulnerabilities!$C:$C,ROW()-3)="","",INDEX(Vulnerabilities!$C:$C,ROW()-3)) | C151: =IF(INDEX(Vulnerabilities!$D:$D,ROW()-3)="","",INDEX(Vulnerabilities!$D:$D,ROW()-3)) | D151: =IF(INDEX(Vulnerabilities!$E:$E,ROW()-3)="","",INDEX(Vulnerabilities!$E:$E,ROW()-3)) | E151: =IF(INDEX(Vulnerabilities!$F:$F,ROW()-3)="","",INDEX(Vulnerabilities!$F:$F,ROW()-3)) | F151: =IF(INDEX(Vulnerabilities!$G:$G,ROW()-3)="","",INDEX(Vulnerabilities!$G:$G,ROW()-3)) | G151: =IF(INDEX(Vulnerabilities!$H:$H,ROW()-3)="","",INDEX(Vulnerabilities!$H:$H,ROW()-3)) | H151: =IF(INDEX(Vulnerabilities!$I:$I,ROW()-3)="","",INDEX(Vulnerabilities!$I:$I,ROW()-3)) | I151: =IF(INDEX(Vulnerabilities!$J:$J,ROW()-3)="","",INDEX(Vulnerabilities!$J:$J,ROW()-3))
A152: =IF(B152="","",ROW()-4) | B152: =IF(INDEX(Vulnerabilities!$C:$C,ROW()-3)="","",INDEX(Vulnerabilities!$C:$C,ROW()-3)) | C152: =IF(INDEX(Vulnerabilities!$D:$D,ROW()-3)="","",INDEX(Vulnerabilities!$D:$D,ROW()-3)) | D152: =IF(INDEX(Vulnerabilities!$E:$E,ROW()-3)="","",INDEX(Vulnerabilities!$E:$E,ROW()-3)) | E152: =IF(INDEX(Vulnerabilities!$F:$F,ROW()-3)="","",INDEX(Vulnerabilities!$F:$F,ROW()-3)) | F152: =IF(INDEX(Vulnerabilities!$G:$G,ROW()-3)="","",INDEX(Vulnerabilities!$G:$G,ROW()-3)) | G152: =IF(INDEX(Vulnerabilities!$H:$H,ROW()-3)="","",INDEX(Vulnerabilities!$H:$H,ROW()-3)) | H152: =IF(INDEX(Vulnerabilities!$I:$I,ROW()-3)="","",INDEX(Vulnerabilities!$I:$I,ROW()-3)) | I152: =IF(INDEX(Vulnerabilities!$J:$J,ROW()-3)="","",INDEX(Vulnerabilities!$J:$J,ROW()-3))
A153: =IF(B153="","",ROW()-4) | B153: =IF(INDEX(Vulnerabilities!$C:$C,ROW()-3)="","",INDEX(Vulnerabilities!$C:$C,ROW()-3)) | C153: =IF(INDEX(Vulnerabilities!$D:$D,ROW()-3)="","",INDEX(Vulnerabilities!$D:$D,ROW()-3)) | D153: =IF(INDEX(Vulnerabilities!$E:$E,ROW()-3)="","",INDEX(Vulnerabilities!$E:$E,ROW()-3)) | E153: =IF(INDEX(Vulnerabilities!$F:$F,ROW()-3)="","",INDEX(Vulnerabilities!$F:$F,ROW()-3)) | F153: =IF(INDEX(Vulnerabilities!$G:$G,ROW()-3)="","",INDEX(Vulnerabilities!$G:$G,ROW()-3)) | G153: =IF(INDEX(Vulnerabilities!$H:$H,ROW()-3)="","",INDEX(Vulnerabilities!$H:$H,ROW()-3)) | H153: =IF(INDEX(Vulnerabilities!$I:$I,ROW()-3)="","",INDEX(Vulnerabilities!$I:$I,ROW()-3)) | I153: =IF(INDEX(Vulnerabilities!$J:$J,ROW()-3)="","",INDEX(Vulnerabilities!$J:$J,ROW()-3))
A154: =IF(B154="","",ROW()-4) | B154: =IF(INDEX(Vulnerabilities!$C:$C,ROW()-3)="","",INDEX(Vulnerabilities!$C:$C,ROW()-3)) | C154: =IF(INDEX(Vulnerabilities!$D:$D,ROW()-3)="","",INDEX(Vulnerabilities!$D:$D,ROW()-3)) | D154: =IF(INDEX(Vulnerabilities!$E:$E,ROW()-3)="","",INDEX(Vulnerabilities!$E:$E,ROW()-3)) | E154: =IF(INDEX(Vulnerabilities!$F:$F,ROW()-3)="","",INDEX(Vulnerabilities!$F:$F,ROW()-3)) | F154: =IF(INDEX(Vulnerabilities!$G:$G,ROW()-3)="","",INDEX(Vulnerabilities!$G:$G,ROW()-3)) | G154: =IF(INDEX(Vulnerabilities!$H:$H,ROW()-3)="","",INDEX(Vulnerabilities!$H:$H,ROW()-3)) | H154: =IF(INDEX(Vulnerabilities!$I:$I,ROW()-3)="","",INDEX(Vulnerabilities!$I:$I,ROW()-3)) | I154: =IF(INDEX(Vulnerabilities!$J:$J,ROW()-3)="","",INDEX(Vulnerabilities!$J:$J,ROW()-3))
A155: =IF(B155="","",ROW()-4) | B155: =IF(INDEX(Vulnerabilities!$C:$C,ROW()-3)="","",INDEX(Vulnerabilities!$C:$C,ROW()-3)) | C155: =IF(INDEX(Vulnerabilities!$D:$D,ROW()-3)="","",INDEX(Vulnerabilities!$D:$D,ROW()-3)) | D155: =IF(INDEX(Vulnerabilities!$E:$E,ROW()-3)="","",INDEX(Vulnerabilities!$E:$E,ROW()-3)) | E155: =IF(INDEX(Vulnerabilities!$F:$F,ROW()-3)="","",INDEX(Vulnerabilities!$F:$F,ROW()-3)) | F155: =IF(INDEX(Vulnerabilities!$G:$G,ROW()-3)="","",INDEX(Vulnerabilities!$G:$G,ROW()-3)) | G155: =IF(INDEX(Vulnerabilities!$H:$H,ROW()-3)="","",INDEX(Vulnerabilities!$H:$H,ROW()-3)) | H155: =IF(INDEX(Vulnerabilities!$I:$I,ROW()-3)="","",INDEX(Vulnerabilities!$I:$I,ROW()-3)) | I155: =IF(INDEX(Vulnerabilities!$J:$J,ROW()-3)="","",INDEX(Vulnerabilities!$J:$J,ROW()-3))
A156: =IF(B156="","",ROW()-4) | B156: =IF(INDEX(Vulnerabilities!$C:$C,ROW()-3)="","",INDEX(Vulnerabilities!$C:$C,ROW()-3)) | C156: =IF(INDEX(Vulnerabilities!$D:$D,ROW()-3)="","",INDEX(Vulnerabilities!$D:$D,ROW()-3)) | D156: =IF(INDEX(Vulnerabilities!$E:$E,ROW()-3)="","",INDEX(Vulnerabilities!$E:$E,ROW()-3)) | E156: =IF(INDEX(Vulnerabilities!$F:$F,ROW()-3)="","",INDEX(Vulnerabilities!$F:$F,ROW()-3)) | F156: =IF(INDEX(Vulnerabilities!$G:$G,ROW()-3)="","",INDEX(Vulnerabilities!$G:$G,ROW()-3)) | G156: =IF(INDEX(Vulnerabilities!$H:$H,ROW()-3)="","",INDEX(Vulnerabilities!$H:$H,ROW()-3)) | H156: =IF(INDEX(Vulnerabilities!$I:$I,ROW()-3)="","",INDEX(Vulnerabilities!$I:$I,ROW()-3)) | I156: =IF(INDEX(Vulnerabilities!$J:$J,ROW()-3)="","",INDEX(Vulnerabilities!$J:$J,ROW()-3))
A157: =IF(B157="","",ROW()-4) | B157: =IF(INDEX(Vulnerabilities!$C:$C,ROW()-3)="","",INDEX(Vulnerabilities!$C:$C,ROW()-3)) | C157: =IF(INDEX(Vulnerabilities!$D:$D,ROW()-3)="","",INDEX(Vulnerabilities!$D:$D,ROW()-3)) | D157: =IF(INDEX(Vulnerabilities!$E:$E,ROW()-3)="","",INDEX(Vulnerabilities!$E:$E,ROW()-3)) | E157: =IF(INDEX(Vulnerabilities!$F:$F,ROW()-3)="","",INDEX(Vulnerabilities!$F:$F,ROW()-3)) | F157: =IF(INDEX(Vulnerabilities!$G:$G,ROW()-3)="","",INDEX(Vulnerabilities!$G:$G,ROW()-3)) | G157: =IF(INDEX(Vulnerabilities!$H:$H,ROW()-3)="","",INDEX(Vulnerabilities!$H:$H,ROW()-3)) | H157: =IF(INDEX(Vulnerabilities!$I:$I,ROW()-3)="","",INDEX(Vulnerabilities!$I:$I,ROW()-3)) | I157: =IF(INDEX(Vulnerabilities!$J:$J,ROW()-3)="","",INDEX(Vulnerabilities!$J:$J,ROW()-3))
A158: =IF(B158="","",ROW()-4) | B158: =IF(INDEX(Vulnerabilities!$C:$C,ROW()-3)="","",INDEX(Vulnerabilities!$C:$C,ROW()-3)) | C158: =IF(INDEX(Vulnerabilities!$D:$D,ROW()-3)="","",INDEX(Vulnerabilities!$D:$D,ROW()-3)) | D158: =IF(INDEX(Vulnerabilities!$E:$E,ROW()-3)="","",INDEX(Vulnerabilities!$E:$E,ROW()-3)) | E158: =IF(INDEX(Vulnerabilities!$F:$F,ROW()-3)="","",INDEX(Vulnerabilities!$F:$F,ROW()-3)) | F158: =IF(INDEX(Vulnerabilities!$G:$G,ROW()-3)="","",INDEX(Vulnerabilities!$G:$G,ROW()-3)) | G158: =IF(INDEX(Vulnerabilities!$H:$H,ROW()-3)="","",INDEX(Vulnerabilities!$H:$H,ROW()-3)) | H158: =IF(INDEX(Vulnerabilities!$I:$I,ROW()-3)="","",INDEX(Vulnerabilities!$I:$I,ROW()-3)) | I158: =IF(INDEX(Vulnerabilities!$J:$J,ROW()-3)="","",INDEX(Vulnerabilities!$J:$J,ROW()-3))
A159: =IF(B159="","",ROW()-4) | B159: =IF(INDEX(Vulnerabilities!$C:$C,ROW()-3)="","",INDEX(Vulnerabilities!$C:$C,ROW()-3)) | C159: =IF(INDEX(Vulnerabilities!$D:$D,ROW()-3)="","",INDEX(Vulnerabilities!$D:$D,ROW()-3)) | D159: =IF(INDEX(Vulnerabilities!$E:$E,ROW()-3)="","",INDEX(Vulnerabilities!$E:$E,ROW()-3)) | E159: =IF(INDEX(Vulnerabilities!$F:$F,ROW()-3)="","",INDEX(Vulnerabilities!$F:$F,ROW()-3)) | F159: =IF(INDEX(Vulnerabilities!$G:$G,ROW()-3)="","",INDEX(Vulnerabilities!$G:$G,ROW()-3)) | G159: =IF(INDEX(Vulnerabilities!$H:$H,ROW()-3)="","",INDEX(Vulnerabilities!$H:$H,ROW()-3)) | H159: =IF(INDEX(Vulnerabilities!$I:$I,ROW()-3)="","",INDEX(Vulnerabilities!$I:$I,ROW()-3)) | I159: =IF(INDEX(Vulnerabilities!$J:$J,ROW()-3)="","",INDEX(Vulnerabilities!$J:$J,ROW()-3))
A160: =IF(B160="","",ROW()-4) | B160: =IF(INDEX(Vulnerabilities!$C:$C,ROW()-3)="","",INDEX(Vulnerabilities!$C:$C,ROW()-3)) | C160: =IF(INDEX(Vulnerabilities!$D:$D,ROW()-3)="","",INDEX(Vulnerabilities!$D:$D,ROW()-3)) | D160: =IF(INDEX(Vulnerabilities!$E:$E,ROW()-3)="","",INDEX(Vulnerabilities!$E:$E,ROW()-3)) | E160: =IF(INDEX(Vulnerabilities!$F:$F,ROW()-3)="","",INDEX(Vulnerabilities!$F:$F,ROW()-3)) | F160: =IF(INDEX(Vulnerabilities!$G:$G,ROW()-3)="","",INDEX(Vulnerabilities!$G:$G,ROW()-3)) | G160: =IF(INDEX(Vulnerabilities!$H:$H,ROW()-3)="","",INDEX(Vulnerabilities!$H:$H,ROW()-3)) | H160: =IF(INDEX(Vulnerabilities!$I:$I,ROW()-3)="","",INDEX(Vulnerabilities!$I:$I,ROW()-3)) | I160: =IF(INDEX(Vulnerabilities!$J:$J,ROW()-3)="","",INDEX(Vulnerabilities!$J:$J,ROW()-3))
A161: =IF(B161="","",ROW()-4) | B161: =IF(INDEX(Vulnerabilities!$C:$C,ROW()-3)="","",INDEX(Vulnerabilities!$C:$C,ROW()-3)) | C161: =IF(INDEX(Vulnerabilities!$D:$D,ROW()-3)="","",INDEX(Vulnerabilities!$D:$D,ROW()-3)) | D161: =IF(INDEX(Vulnerabilities!$E:$E,ROW()-3)="","",INDEX(Vulnerabilities!$E:$E,ROW()-3)) | E161: =IF(INDEX(Vulnerabilities!$F:$F,ROW()-3)="","",INDEX(Vulnerabilities!$F:$F,ROW()-3)) | F161: =IF(INDEX(Vulnerabilities!$G:$G,ROW()-3)="","",INDEX(Vulnerabilities!$G:$G,ROW()-3)) | G161: =IF(INDEX(Vulnerabilities!$H:$H,ROW()-3)="","",INDEX(Vulnerabilities!$H:$H,ROW()-3)) | H161: =IF(INDEX(Vulnerabilities!$I:$I,ROW()-3)="","",INDEX(Vulnerabilities!$I:$I,ROW()-3)) | I161: =IF(INDEX(Vulnerabilities!$J:$J,ROW()-3)="","",INDEX(Vulnerabilities!$J:$J,ROW()-3))
A162: =IF(B162="","",ROW()-4) | B162: =IF(INDEX(Vulnerabilities!$C:$C,ROW()-3)="","",INDEX(Vulnerabilities!$C:$C,ROW()-3)) | C162: =IF(INDEX(Vulnerabilities!$D:$D,ROW()-3)="","",INDEX(Vulnerabilities!$D:$D,ROW()-3)) | D162: =IF(INDEX(Vulnerabilities!$E:$E,ROW()-3)="","",INDEX(Vulnerabilities!$E:$E,ROW()-3)) | E162: =IF(INDEX(Vulnerabilities!$F:$F,ROW()-3)="","",INDEX(Vulnerabilities!$F:$F,ROW()-3)) | F162: =IF(INDEX(Vulnerabilities!$G:$G,ROW()-3)="","",INDEX(Vulnerabilities!$G:$G,ROW()-3)) | G162: =IF(INDEX(Vulnerabilities!$H:$H,ROW()-3)="","",INDEX(Vulnerabilities!$H:$H,ROW()-3)) | H162: =IF(INDEX(Vulnerabilities!$I:$I,ROW()-3)="","",INDEX(Vulnerabilities!$I:$I,ROW()-3)) | I162: =IF(INDEX(Vulnerabilities!$J:$J,ROW()-3)="","",INDEX(Vulnerabilities!$J:$J,ROW()-3))
... A205: =IF(B205="","",ROW()-4) | B205: =IF(INDEX(Vulnerabilities!$C:$C,ROW()-3)="","",INDEX(Vulnerabilities!$C:$C,ROW()-3)) | C205: =IF(INDEX(Vulnerabilities!$D:$D,ROW()-3)="","",INDEX(Vulnerabilities!$D:$D,ROW()-3)) | D205: =IF(INDEX(Vulnerabilities!$E:$E,ROW()-3)="","",INDEX(Vulnerabilities!$E:$E,ROW()-3)) | E205: =IF(INDEX(Vulnerabilities!$F:$F,ROW()-3)="","",INDEX(Vulnerabilities!$F:$F,ROW()-3)) | F205: =IF(INDEX(Vulnerabilities!$G:$G,ROW()-3)="","",INDEX(Vulnerabilities!$G:$G,ROW()-3)) | G205: =IF(INDEX(Vulnerabilities!$H:$H,ROW()-3)="","",INDEX(Vulnerabilities!$H:$H,ROW()-3)) | H205: =IF(INDEX(Vulnerabilities!$I:$I,ROW()-3)="","",INDEX(Vulnerabilities!$I:$I,ROW()-3)) | I205: =IF(INDEX(Vulnerabilities!$J:$J,ROW()-3)="","",INDEX(Vulnerabilities!$J:$J,ROW()-3))
